BEGIN:VCALENDAR
VERSION:2.0
PRODID:EVENTFROG//EVENT//ICAL
BEGIN:VEVENT
UID:20260424T152624Z-7453375193429313169@eventfrog.at
DTSTAMP:20260424T152624Z
DTSTART:20260709T120000Z
DTEND:20260709T180000Z
SUMMARY:Summer-Kunschti
DESCRIPTION:Entdecke eine bunte Welt aus Sport, Spiel und Spass auf der Kunsteisbahn Margarethen. Heute mit Grill - Grill vorhanden, Essen & Trinken selber mitbringen.\n\nhttps://eventfrog.at/de/p/kinderveranstaltungen/familienveranstaltungen/summer-kunschti-7453375193429313169.html
LOCATION:Kunsteisbahn Margarethen
GEO:47.540713;7.586089
URL:https://eventfrog.at/de/p/kinderveranstaltungen/familienveranstaltungen/summer-kunschti-7453375193429313169.html
END:VEVENT
END:VCALENDAR