BEGIN:VCALENDAR
VERSION:2.0
PRODID:EVENTFROG//EVENT//ICAL
BEGIN:VEVENT
UID:20260424T162809Z-7453374553156245871@eventfrog.at
DTSTAMP:20260424T162809Z
DTSTART:20260619T180000Z
SUMMARY:Piano Dinner: Cinematic Sounds – Ein Abend wie im Film
DESCRIPTION:Erlebe ein exklusives Piano Dinner mit Filmmusik, live am Klavier interpretiert, begleitet von einem 4-Gang Menü.\nEin Abend voller Atmosphäre, Genuss und Emotion.\n\nhttps://eventfrog.at/de/p/konzerte/weitere-musikrichtungen/piano-dinner-cinematic-sounds-ein-abend-wie-im-film-7453374553156245871.html
LOCATION:Mille Sens
GEO:46.948153;7.441493
URL:https://eventfrog.at/de/p/konzerte/weitere-musikrichtungen/piano-dinner-cinematic-sounds-ein-abend-wie-im-film-7453374553156245871.html
END:VEVENT
END:VCALENDAR