BEGIN:VCALENDAR
VERSION:2.0
PRODID:EVENTFROG//EVENT//ICAL
BEGIN:VEVENT
UID:20260425T135056Z-7453374237627174037@eventfrog.at
DTSTAMP:20260425T135056Z
DTSTART:20261125T190000Z
DTEND:20261125T223000Z
SUMMARY:Toody Cole & Her Band, The Lombego Surfers and more live!
DESCRIPTION:Toody Cole & Her Band, The Lombego Surfers and Jenny Don't & The Spurs live in Concert!\n\nhttps://eventfrog.at/de/p/konzerte/hard-rock-heavy-metal/toody-cole-her-band-the-lombego-surfers-and-more-live-7453374237627174037.html
LOCATION:Schlosserei Warteck
GEO:47.558014;7.601166
URL:https://eventfrog.at/de/p/konzerte/hard-rock-heavy-metal/toody-cole-her-band-the-lombego-surfers-and-more-live-7453374237627174037.html
END:VEVENT
END:VCALENDAR