BEGIN:VCALENDAR
VERSION:2.0
PRODID:EVENTFROG//EVENT//ICAL
BEGIN:VEVENT
UID:20260424T231621Z-7453371422091556166@eventfrog.at
DTSTAMP:20260424T231621Z
DTSTART:20261102T130000Z
DTEND:20261102T160000Z
SUMMARY:KI-Entdeckungsreise für ältere Einsteiger:innen
DESCRIPTION:Künstliche Intelligenz im Alltag und im Alter bewusst, sicher und gekonnt einsetzen\n\nhttps://eventfrog.at/de/p/kurse-seminare/sonstige-kurse-seminare/ki-entdeckungsreise-fuer-aeltere-einsteiger-innen-7453371422091556166.html
LOCATION:OST Ostschweizer Fachhochschule, Campus Rapperswil
GEO:47.224264;8.817033
URL:https://eventfrog.at/de/p/kurse-seminare/sonstige-kurse-seminare/ki-entdeckungsreise-fuer-aeltere-einsteiger-innen-7453371422091556166.html
END:VEVENT
END:VCALENDAR