BEGIN:VCALENDAR
VERSION:2.0
PRODID:EVENTFROG//EVENT//ICAL
BEGIN:VEVENT
UID:20260424T214522Z-7453370815611951560@eventfrog.at
DTSTAMP:20260424T214522Z
DTSTART:20260530T130000Z
DTEND:20260531T200000Z
SUMMARY:Bachata Influence & Bachazouk Experience
DESCRIPTION:Marcelo & Alisiya lehren am 30. Mai in Winterthur den flüssigen Tanzübergang zwischen Bachata Influence und BachaZouk.\n\nhttps://eventfrog.at/de/p/kurse-seminare/musik-tanz/bachata-influence-bachazouk-experience-7453370815611951560.html
LOCATION:Sabor Latino
GEO:47.499271;8.745634
URL:https://eventfrog.at/de/p/kurse-seminare/musik-tanz/bachata-influence-bachazouk-experience-7453370815611951560.html
END:VEVENT
END:VCALENDAR