BEGIN:VCALENDAR
VERSION:2.0
PRODID:EVENTFROG//EVENT//ICAL
BEGIN:VEVENT
UID:20260425T210548Z-7453369745229772039@eventfrog.at
DTSTAMP:20260425T210548Z
DTSTART:20260505T170000Z
DTEND:20260505T180000Z
SUMMARY:Prof. Luciano Saso
DESCRIPTION:Le malattie infettive restano una sfida globale e richiedono nuovi vaccini e strategie contro la resistenza ai trattamenti.\n\nhttps://eventfrog.at/de/p/gesundheit-spiritualitaet/gesundheit-wohlbefinden/prof-luciano-saso-7453369745229772039.html
LOCATION:Kongress- und Kirchgemeindehaus Liebestrasse
GEO:47.502114;8.729612
URL:https://eventfrog.at/de/p/gesundheit-spiritualitaet/gesundheit-wohlbefinden/prof-luciano-saso-7453369745229772039.html
END:VEVENT
END:VCALENDAR