BEGIN:VCALENDAR
VERSION:2.0
PRODID:EVENTFROG//EVENT//ICAL
BEGIN:VEVENT
UID:20260424T152651Z-7453366622268472358@eventfrog.at
DTSTAMP:20260424T152651Z
DTSTART:20260512T120000Z
DTEND:20260512T153000Z
SUMMARY:Dalbe Dyych
DESCRIPTION:Jeweils am Dienstag entdecken wir mit den Kindern ab 5 Jahren den Naturraum am Dalbe Dyych im Lehenmattquartier, Treffpunkt ist am Spielplatz St. Albanteich.\n\nhttps://eventfrog.at/de/p/kinderveranstaltungen/familienveranstaltungen/dalbe-dyych-7453366622268472358.html
LOCATION:St. Albanteich Spielplatz
GEO:47.546778;7.619958
URL:https://eventfrog.at/de/p/kinderveranstaltungen/familienveranstaltungen/dalbe-dyych-7453366622268472358.html
END:VEVENT
END:VCALENDAR