BEGIN:VCALENDAR
VERSION:2.0
PRODID:EVENTFROG//EVENT//ICAL
BEGIN:VEVENT
UID:20260425T110324Z-7453364343142358553@eventfrog.at
DTSTAMP:20260425T110324Z
DTSTART:20260514T090000Z
DTEND:20260514T130000Z
SUMMARY:Guitar Tigers Kult Vatertagsparty - Abschiedstour 2026
DESCRIPTION:Beste Livemusik ever!\n\nhttps://eventfrog.at/de/p/konzerte/pop-rock/guitar-tigers-kult-vatertagsparty-abschiedstour-2026-7453364343142358553.html
LOCATION:Guitar Tigers Vatertagsparty
GEO:49.606780;8.315899
URL:https://eventfrog.at/de/p/konzerte/pop-rock/guitar-tigers-kult-vatertagsparty-abschiedstour-2026-7453364343142358553.html
END:VEVENT
END:VCALENDAR