BEGIN:VCALENDAR
VERSION:2.0
PRODID:EVENTFROG//EVENT//ICAL
BEGIN:VEVENT
UID:20260426T041813Z-7453363492915018151@eventfrog.at
DTSTAMP:20260426T041813Z
DTSTART:20260526T100000Z
DTEND:20260526T113000Z
SUMMARY:VFU Business-Lunch in Chur, 26.05.2026
DESCRIPTION:Der VFU-Business Lunch in Chur ermöglicht Unternehmerinnen Networking und Austausch in gemütlicher Atmosphäre.\n\nhttps://eventfrog.at/de/p/fuehrungen-vortraege/business-treff/vfu-business-lunch-in-chur-26-05-2026-7453363492915018151.html
LOCATION:Restaurant "Eugen"
GEO:46.850605;9.533174
URL:https://eventfrog.at/de/p/fuehrungen-vortraege/business-treff/vfu-business-lunch-in-chur-26-05-2026-7453363492915018151.html
END:VEVENT
END:VCALENDAR