BEGIN:VCALENDAR
VERSION:2.0
PRODID:EVENTFROG//EVENT//ICAL
BEGIN:VEVENT
UID:20260425T000037Z-7453361571022026957@eventfrog.at
DTSTAMP:20260425T000037Z
DTSTART:20260425T140000Z
DTEND:20260425T160000Z
SUMMARY:öffentlicher Vortrag
DESCRIPTION:SA 25.04.2026  16 Uhr\nVortrag über gesunde Ernährung im Zusammenhang mit der Anthroposophie    \nReferentin: Annegret Bohmert\n\nhttps://eventfrog.at/de/p/diverses/oeffentlicher-vortrag-7453361571022026957.html
LOCATION:Rudolf Steiner Schule
GEO:47.212079;7.790562
URL:https://eventfrog.at/de/p/diverses/oeffentlicher-vortrag-7453361571022026957.html
END:VEVENT
END:VCALENDAR