BEGIN:VCALENDAR
VERSION:2.0
PRODID:EVENTFROG//EVENT//ICAL
BEGIN:VEVENT
UID:20260424T142801Z-7453329020576381619@eventfrog.at
DTSTAMP:20260424T142801Z
DTSTART:20260612T180000Z
DTEND:20260612T200000Z
SUMMARY:Language Exchange Zurich
DESCRIPTION:Join the language exchange and meet new people, discover other cultures and practice foreign language skills with fellow participants! \n\nhttps://eventfrog.at/en/p/eating-drinking/language-exchange-zurich-7453329020576381619.html
LOCATION:2. Akt Bar, 8001 Zürich
GEO:47.369865;8.533612
URL:https://eventfrog.at/en/p/eating-drinking/language-exchange-zurich-7453329020576381619.html
END:VEVENT
END:VCALENDAR