BEGIN:VCALENDAR
VERSION:2.0
PRODID:EVENTFROG//EVENT//ICAL
BEGIN:VEVENT
UID:20260424T091028Z-7453304571181410648@eventfrog.at
DTSTAMP:20260424T091028Z
DTSTART:20260425T183000Z
DTEND:20260425T200000Z
SUMMARY:Comedy Club Allstars • Die Stand-up Show in Zürich
DESCRIPTION:Der Comedy Club Zürich präsentiert euch einen Mix aus erfahrenen Profi-Comedians und den heißesten Newcomern aus Zürich, der Schweiz und dem ganzen deutschsprachigen Raum.\n\nhttps://eventfrog.at/de/p/theater-buehne/comedy-kabarett/comedy-club-allstars-die-stand-up-show-in-zuerich-7453304571181410648.html
LOCATION:Comedy Club Zürich
GEO:47.380142;8.528393
URL:https://eventfrog.at/de/p/theater-buehne/comedy-kabarett/comedy-club-allstars-die-stand-up-show-in-zuerich-7453304571181410648.html
END:VEVENT
END:VCALENDAR