BEGIN:VCALENDAR
VERSION:2.0
PRODID:EVENTFROG//EVENT//ICAL
BEGIN:VEVENT
UID:20260426T011437Z-7453202033849459989@eventfrog.at
DTSTAMP:20260426T011437Z
DTSTART:20260913T091500Z
DTEND:20260913T110000Z
SUMMARY:Sonntagsstreifzug Mit Julia Weber
DESCRIPTION:Sonntagsstreifzug Mit Julia Weber\n\nhttps://eventfrog.at/de/p/theater-buehne/sonntagsstreifzug-mit-julia-weber-7453202033849459989.html
LOCATION:Aargauer Literaturhaus
GEO:47.386106;8.175277
URL:https://eventfrog.at/de/p/theater-buehne/sonntagsstreifzug-mit-julia-weber-7453202033849459989.html
END:VEVENT
END:VCALENDAR