BEGIN:VCALENDAR
VERSION:2.0
PRODID:EVENTFROG//EVENT//ICAL
BEGIN:VEVENT
UID:20260424T085133Z-7453179718029813672@eventfrog.at
DTSTAMP:20260424T085133Z
DTSTART:20260620T150000Z
DTEND:20260620T193000Z
SUMMARY:Handpan Workshop & Dinner
DESCRIPTION:Workshop für Anfänger mit Abendessen.\nWir werden auf D-Kurd/D-Amara Handpan spielen. Wenn du eine hast, bring sie gerne mit (und auch den Handpan-Ständer, wenn du einen brauchst).\n\nhttps://eventfrog.at/en/p/courses-seminars/music-dance/handpan-workshop-dinner-7453179718029813672.html
LOCATION:Zürcher Gemeinschaftszentren GZ Oerlikon
GEO:47.407797;8.545748
URL:https://eventfrog.at/en/p/courses-seminars/music-dance/handpan-workshop-dinner-7453179718029813672.html
END:VEVENT
END:VCALENDAR