BEGIN:VCALENDAR
VERSION:2.0
PRODID:EVENTFROG//EVENT//ICAL
BEGIN:VEVENT
UID:20260424T090345Z-7453140376880158800@eventfrog.at
DTSTAMP:20260424T090345Z
DTSTART:20260513T170000Z
DTEND:20260513T183000Z
SUMMARY:Sunset Pilates ️
DESCRIPTION:Entspanne und stärke dich beim Afterwork Mat Pilates um 19:00 am Zürcher See, danach gemeinsames Zusammensein bis ca. 20:00.\n\nhttps://eventfrog.at/de/p/diverses/sunset-pilates-7453140376880158800.html
LOCATION:Rentenwiese
GEO:47.363149;8.536204
URL:https://eventfrog.at/de/p/diverses/sunset-pilates-7453140376880158800.html
END:VEVENT
END:VCALENDAR