BEGIN:VCALENDAR
VERSION:2.0
PRODID:EVENTFROG//EVENT//ICAL
BEGIN:VEVENT
UID:20260424T072643Z-7453123770498199353@eventfrog.at
DTSTAMP:20260424T072643Z
DTSTART:20260630T170000Z
DTEND:20260630T210000Z
SUMMARY:WHISPERS + DENIAL OF LIFE + DOMAIN + VOLATILE WAYS
DESCRIPTION:Internationale Hardcore- und Metalcore-Bands spielen gemeinsam mit Zürcher Kill Rotation an einem heissen Dienstagabend.\n\nhttps://eventfrog.at/de/p/konzerte/punk/whispers-denial-of-life-domain-volatile-ways-7453123770498199353.html
LOCATION:Werk21
GEO:47.383303;8.539394
URL:https://eventfrog.at/de/p/konzerte/punk/whispers-denial-of-life-domain-volatile-ways-7453123770498199353.html
END:VEVENT
END:VCALENDAR