BEGIN:VCALENDAR
VERSION:2.0
PRODID:EVENTFROG//EVENT//ICAL
BEGIN:VEVENT
UID:20260425T194425Z-7453122336931188490@eventfrog.at
DTSTAMP:20260425T194425Z
DTSTART:20260507T143000Z
DTEND:20260507T170000Z
SUMMARY:Bubble Tea Event
DESCRIPTION:Geniesse selbstgemachten Bubble Tea, Kuchen und Spiele am 07.05.2026 ab 16:30 im RAA-E-05 mit tollen Leuten.\n\nhttps://eventfrog.at/de/p/essen-trinken/bubble-tea-event-7453122336931188490.html
LOCATION:Universität Zürich
GEO:47.373237;8.550202
URL:https://eventfrog.at/de/p/essen-trinken/bubble-tea-event-7453122336931188490.html
END:VEVENT
END:VCALENDAR