BEGIN:VCALENDAR
VERSION:2.0
PRODID:EVENTFROG//EVENT//ICAL
BEGIN:VEVENT
UID:20260424T072714Z-7453119220043242654@eventfrog.at
DTSTAMP:20260424T072714Z
DTSTART:20260430T160000Z
DTEND:20260501T000000Z
SUMMARY:Patchwork X Palais Mascotte Zurich
DESCRIPTION:Sassy J entführt mit einem 5-stündigen DJ-Set voller House, Jazz und Elektronik ins Palais Mascotte.\n\nhttps://eventfrog.at/en/p/parties/house-techno/patchwork-x-palais-mascotte-zurich-7453119220043242654.html
LOCATION:palais mascotte
GEO:47.366383;8.546748
URL:https://eventfrog.at/en/p/parties/house-techno/patchwork-x-palais-mascotte-zurich-7453119220043242654.html
END:VEVENT
END:VCALENDAR