BEGIN:VCALENDAR
VERSION:2.0
PRODID:EVENTFROG//EVENT//ICAL
BEGIN:VEVENT
UID:20260424T072706Z-7453112763864382656@eventfrog.at
DTSTAMP:20260424T072706Z
DTSTART:20260428T123000Z
DTEND:20260428T163000Z
SUMMARY:Picinc in Villars sur Glâne + Tour de Romandie
DESCRIPTION:Relaxed picnic on April 28 in Villars-sur-Glâne with a view of the preliminary stage of the Tour de Romandie.\n\nhttps://eventfrog.at/fr/p/manger-boire/picinc-in-villars-sur-glane-tour-de-romandie-7453112763864382656.html
LOCATION:Villars-sur-Glâne
GEO:46.802912;7.151106
URL:https://eventfrog.at/fr/p/manger-boire/picinc-in-villars-sur-glane-tour-de-romandie-7453112763864382656.html
END:VEVENT
END:VCALENDAR