BEGIN:VCALENDAR
VERSION:2.0
PRODID:EVENTFROG//EVENT//ICAL
BEGIN:VEVENT
UID:20260424T072730Z-7453108711864710250@eventfrog.at
DTSTAMP:20260424T072730Z
DTSTART:20260612T153000Z
DTEND:20260612T170000Z
SUMMARY:Held:innen des Alltags
DESCRIPTION:Generationentheaterprojekt\n\nhttps://eventfrog.at/de/p/theater-buehne/buehnenveranstaltung/held-innen-des-alltags-7453108711864710250.html
LOCATION:Aula Primarschule Rittergasse
GEO:47.555670;7.592404
URL:https://eventfrog.at/de/p/theater-buehne/buehnenveranstaltung/held-innen-des-alltags-7453108711864710250.html
END:VEVENT
END:VCALENDAR