BEGIN:VCALENDAR
VERSION:2.0
PRODID:EVENTFROG//EVENT//ICAL
BEGIN:VEVENT
UID:20260424T190250Z-7453093620268139357@eventfrog.at
DTSTAMP:20260424T190250Z
DTSTART:20260521T110000Z
DTEND:20260521T160000Z
SUMMARY:Free training session: The 360°-CORE training of tomorrow.
DESCRIPTION:Gratis Probesession für das wohl schnellste & verrückteste Rumpftraining// FREE TRAINING SESSION FOR THE CORE TRAINING OF TOMORROW.\n\nEinsteigen. Drehen. Spüren. 360 Grad-Rumpfmuskeltraining.\n\n\n\nhttps://eventfrog.at/de/p/sport-fitness/fitness/free-training-session-the-360-core-training-of-tomorrow-7453093620268139357.html
LOCATION:RT360 AG - das Rumpfmuskeltraining der Zukunft
GEO:47.367520;8.559867
URL:https://eventfrog.at/de/p/sport-fitness/fitness/free-training-session-the-360-core-training-of-tomorrow-7453093620268139357.html
END:VEVENT
END:VCALENDAR