BEGIN:VCALENDAR
VERSION:2.0
PRODID:EVENTFROG//EVENT//ICAL
BEGIN:VEVENT
UID:20260424T072700Z-7453084377909588473@eventfrog.at
DTSTAMP:20260424T072700Z
DTSTART:20260808T110000Z
DTEND:20260808T110000Z
SUMMARY:GABBERBUSTERS – Hardcore Lovemobile @ Street Parade 2026
DESCRIPTION: GABBERBUSTERS – Hardcore Lovemobile 2026 \n\nHardcore, Uptempo & Gabber auf 180 BPM rollen durch Zürich. Werde Teil der lautesten Crew der Street Parade und bring den Asphalt zum Beben! \n\nhttps://eventfrog.at/de/p/festivals/weitere-festivals/gabberbusters-hardcore-lovemobile-street-parade-2026-7453084377909588473.html
LOCATION:Street Parade Zürich
GEO:47.367097;8.542885
URL:https://eventfrog.at/de/p/festivals/weitere-festivals/gabberbusters-hardcore-lovemobile-street-parade-2026-7453084377909588473.html
END:VEVENT
END:VCALENDAR