BEGIN:VCALENDAR
VERSION:2.0
PRODID:EVENTFROG//EVENT//ICAL
BEGIN:VEVENT
UID:20260424T065100Z-7453078334278228964@eventfrog.at
DTSTAMP:20260424T065100Z
DTSTART:20260510T093000Z
DTEND:20260510T110000Z
SUMMARY:Mothersday concert - Dhrupad
DESCRIPTION:Muttertags-Konzert, Indian classical music, Amit and Students.\n\nhttps://eventfrog.at/de/p/konzerte/world-ethno/mothersday-concert-dhrupad-7453078334278228964.html
LOCATION:nandalayoga
GEO:47.381891;8.534494
URL:https://eventfrog.at/de/p/konzerte/world-ethno/mothersday-concert-dhrupad-7453078334278228964.html
END:VEVENT
END:VCALENDAR