BEGIN:VCALENDAR
VERSION:2.0
PRODID:EVENTFROG//EVENT//ICAL
BEGIN:VEVENT
UID:20260424T230153Z-7453065833775907175@eventfrog.at
DTSTAMP:20260424T230153Z
DTSTART:20270218T190000Z
DTEND:20270218T210000Z
SUMMARY:Moderne Talking (Comedy Night)
DESCRIPTION:Bei Moderne Talking sorgen 8-10 Comedians ab 20:00 Uhr für einen unterhaltsamen Comedy-Abend, Türöffnung um 19:00 Uhr.\n\nhttps://eventfrog.at/de/p/theater-buehne/comedy-kabarett/moderne-talking-comedy-night-7453065833775907175.html
LOCATION:Moderne Bar & Karussell
GEO:47.048440;8.306079
URL:https://eventfrog.at/de/p/theater-buehne/comedy-kabarett/moderne-talking-comedy-night-7453065833775907175.html
END:VEVENT
END:VCALENDAR