BEGIN:VCALENDAR
VERSION:2.0
PRODID:EVENTFROG//EVENT//ICAL
BEGIN:VEVENT
UID:20260425T122708Z-7453064543272445725@eventfrog.at
DTSTAMP:20260425T122708Z
DTSTART:20260501T200000Z
DTEND:20260502T020000Z
SUMMARY:Afro-Latino Party
DESCRIPTION:Le 1er mai à Genève, soirée Afro x Latino animée par DJ Maaf et AuntySha dès 22h au Flanagan's.\n\nhttps://eventfrog.at/en/p/parties/student-party/afro-latino-party-7453064543272445725.html
LOCATION:Flanagan's
GEO:46.201739;6.145418
URL:https://eventfrog.at/en/p/parties/student-party/afro-latino-party-7453064543272445725.html
END:VEVENT
END:VCALENDAR