BEGIN:VCALENDAR
VERSION:2.0
PRODID:EVENTFROG//EVENT//ICAL
BEGIN:VEVENT
UID:20260424T072654Z-7453055273617366328@eventfrog.at
DTSTAMP:20260424T072654Z
DTSTART:20260519T180000Z
SUMMARY:Büchertipp live!
DESCRIPTION:Unsere Buchhändler:innen im Bücher Lüthy Sihlcity stellen die wichtigsten Frühlings-Neuheiten vor.\n\nhttps://eventfrog.at/de/p/theater-buehne/lesung/buechertipp-live-7453055273617366328.html
LOCATION:Bücher Lüthy Sihlcity
GEO:47.358122;8.522991
URL:https://eventfrog.at/de/p/theater-buehne/lesung/buechertipp-live-7453055273617366328.html
END:VEVENT
END:VCALENDAR