BEGIN:VCALENDAR
VERSION:2.0
PRODID:EVENTFROG//EVENT//ICAL
BEGIN:VEVENT
UID:20260424T091028Z-7453054448622911870@eventfrog.at
DTSTAMP:20260424T091028Z
DTSTART:20260508T180000Z
DTEND:20260508T200000Z
SUMMARY:Detox Deluxe - Kabarett mit Musik
DESCRIPTION:Die Show verbindet Kabarett und Live-Musik zu einer Reise, die Lachmuskeln und Seele belebt.\n\nhttps://eventfrog.at/de/p/theater-buehne/comedy-kabarett/detox-deluxe-kabarett-mit-musik-7453054448622911870.html
LOCATION:Glasbahnhof
GEO:54.511280;13.639746
URL:https://eventfrog.at/de/p/theater-buehne/comedy-kabarett/detox-deluxe-kabarett-mit-musik-7453054448622911870.html
END:VEVENT
END:VCALENDAR