BEGIN:VCALENDAR
VERSION:2.0
PRODID:EVENTFROG//EVENT//ICAL
BEGIN:VEVENT
UID:20260424T161636Z-7453049846724833010@eventfrog.at
DTSTAMP:20260424T161636Z
DTSTART:20261212T183000Z
DTEND:20261212T223000Z
SUMMARY:Abba Dinner Show
DESCRIPTION:Eine Tribute-Band spielt Abba-Hits begleitet von einem 3-Gänge-Buffet und Light-Show für einen unvergesslichen Abend.\n\nhttps://eventfrog.at/de/p/essen-trinken/abba-dinner-show-7453049846724833010.html
LOCATION:Hotel Chemnitzer Hof
GEO:50.838384;12.926131
URL:https://eventfrog.at/de/p/essen-trinken/abba-dinner-show-7453049846724833010.html
END:VEVENT
END:VCALENDAR