BEGIN:VCALENDAR
VERSION:2.0
PRODID:EVENTFROG//EVENT//ICAL
BEGIN:VEVENT
UID:20260424T072708Z-7453043426625373688@eventfrog.at
DTSTAMP:20260424T072708Z
DTSTART:20260528T163000Z
DTEND:20260528T190000Z
SUMMARY:Soundmodule bauen (FlipFloater DIY)
DESCRIPTION:FlipFloater sind kleine Synthesizer und Effektgeräte die Du für Deine Live-Performance oder Dein eigenes Sound-Setup einsetzen kannst. \n\nhttps://eventfrog.at/de/p/kurse-seminare/musik-tanz/soundmodule-bauen-flipfloater-diy-7453043426625373688.html
LOCATION:Kulturbüro Basel
GEO:47.564595;7.591185
URL:https://eventfrog.at/de/p/kurse-seminare/musik-tanz/soundmodule-bauen-flipfloater-diy-7453043426625373688.html
END:VEVENT
END:VCALENDAR