BEGIN:VCALENDAR
VERSION:2.0
PRODID:EVENTFROG//EVENT//ICAL
BEGIN:VEVENT
UID:20260424T073214Z-7453035602218355997@eventfrog.at
DTSTAMP:20260424T073214Z
DTSTART:20260430T100000Z
DTEND:20260430T140000Z
SUMMARY:"CAPOPINSA" Opening Week
DESCRIPTION:Täglich gibt es eine begrenzte Anzahl an Mittagsgutscheinen für die Eröffnungswoche von Capo Pinsa in Zürich. Holen Sie sich kostenlose Pinsa sowie 50 %- oder 20 %-Rabatte für den Verzehr vor Ort.\n\nhttps://eventfrog.at/en/p/eating-drinking/capopinsa-opening-week-7453035602218355997.html
LOCATION:Capo Pinsa | Vior
GEO:47.372869;8.534810
URL:https://eventfrog.at/en/p/eating-drinking/capopinsa-opening-week-7453035602218355997.html
END:VEVENT
END:VCALENDAR