BEGIN:VCALENDAR
VERSION:2.0
PRODID:EVENTFROG//EVENT//ICAL
BEGIN:VEVENT
UID:20260424T081739Z-7453017208060409372@eventfrog.at
DTSTAMP:20260424T081739Z
DTSTART:20260630T173000Z
DTEND:20260630T193000Z
SUMMARY:Atelier scrapbooking
DESCRIPTION:Atelier créatif sur Pâques animé par Ivanna Gaete, mêlant couleurs, mots et textures pour exprimer lumière et espoir.\n\nhttps://eventfrog.at/fr/p/cours-seminaires/art-culture/atelier-scrapbooking-7453017208060409372.html
LOCATION:Madeleine - Café, Livres & Co
GEO:46.522322;6.632852
URL:https://eventfrog.at/fr/p/cours-seminaires/art-culture/atelier-scrapbooking-7453017208060409372.html
END:VEVENT
END:VCALENDAR