BEGIN:VCALENDAR
VERSION:2.0
PRODID:EVENTFROG//EVENT//ICAL
BEGIN:VEVENT
UID:20260424T214405Z-7453014458773824983@eventfrog.at
DTSTAMP:20260424T214405Z
DTSTART:20260613T153000Z
DTEND:20260613T220000Z
SUMMARY:3. Dietliker Kulturnacht
DESCRIPTION:Suchen Sie sich Ihre 5 Favoriten aus und wechseln Sie in den Pausen den Schauplatz, ganz nach dem Motto: Kultur bewegt! Wir freuen uns auf Sie!\n\nhttps://eventfrog.at/de/p/diverses/3-dietliker-kulturnacht-7453014458773824983.html
LOCATION:Pausenplatz Schulhaus Dorf
GEO:47.425663;8.617007
URL:https://eventfrog.at/de/p/diverses/3-dietliker-kulturnacht-7453014458773824983.html
END:VEVENT
END:VCALENDAR