BEGIN:VCALENDAR
VERSION:2.0
PRODID:EVENTFROG//EVENT//ICAL
BEGIN:VEVENT
UID:20260424T072724Z-7453013708589023987@eventfrog.at
DTSTAMP:20260424T072724Z
DTSTART:20260503T150000Z
DTEND:20260503T161500Z
SUMMARY:Chorkonzert vom Petersdom, Vatikan nach Thun
DESCRIPTION:Projektchor der katholischen Kirche Thun. \n83 Mitwirkende präsentieren 18 klassische Chorwerke Ihrer Konzerte im Petersdom, Vatikan und an den Osterfeiern in Thun.\nEintritt frei, Kollekte.\n\nhttps://eventfrog.at/de/p/konzerte/chor/chorkonzert-vom-petersdom-vatikan-nach-thun-7453013708589023987.html
LOCATION:Katholische Kirche St. Martin
GEO:46.748281;7.615893
URL:https://eventfrog.at/de/p/konzerte/chor/chorkonzert-vom-petersdom-vatikan-nach-thun-7453013708589023987.html
END:VEVENT
END:VCALENDAR