BEGIN:VCALENDAR
VERSION:2.0
PRODID:EVENTFROG//EVENT//ICAL
BEGIN:VEVENT
UID:20260424T124022Z-7453011238253009064@eventfrog.at
DTSTAMP:20260424T124022Z
DTSTART:20260428T164500Z
DTEND:20260428T174500Z
SUMMARY:Ballett-Fitness
DESCRIPTION:Der Einsteigerkurs kombiniert klassische Ballettübungen mit Ganzkörpertraining zur Verbesserung von Haltung, Kraft und Beweglichkeit.\n\nhttps://eventfrog.at/de/p/sport-fitness/tanzsport/ballett-fitness-7453011238253009064.html
LOCATION:Ballettschule Alexandra
GEO:49.459843;11.102499
URL:https://eventfrog.at/de/p/sport-fitness/tanzsport/ballett-fitness-7453011238253009064.html
END:VEVENT
END:VCALENDAR