BEGIN:VCALENDAR
VERSION:2.0
PRODID:EVENTFROG//EVENT//ICAL
BEGIN:VEVENT
UID:20260424T062233Z-7453010863286392990@eventfrog.at
DTSTAMP:20260424T062233Z
DTSTART:20260503T150000Z
DTEND:20260503T160000Z
SUMMARY:TANGO! mit Michael Zisman und Winfried Holzenkamp
DESCRIPTION:TANGO! mit Michael Zisman, Bandoneon, Winfried Holzenkamp, Bass und den Tänzern Leo und Eugenia (Paris) \n\nhttps://eventfrog.at/de/p/konzerte/world-ethno/tango-mit-michael-zisman-und-winfried-holzenkamp-7453010863286392990.html
LOCATION:Alte Kirche Romanshorn
GEO:47.568661;9.380643
URL:https://eventfrog.at/de/p/konzerte/world-ethno/tango-mit-michael-zisman-und-winfried-holzenkamp-7453010863286392990.html
END:VEVENT
END:VCALENDAR