BEGIN:VCALENDAR
VERSION:2.0
PRODID:EVENTFROG//EVENT//ICAL
BEGIN:VEVENT
UID:20260424T072707Z-7453010019069473142@eventfrog.at
DTSTAMP:20260424T072707Z
DTSTART:20260503T150000Z
DTEND:20260503T161500Z
SUMMARY:Chorkonzert "Vom Petersdom nach Thun"
DESCRIPTION:Projektchor der katholischen Kirche Thun. 83 Mitwirkende präsentieren 18 klassische Chorwerke Ihrer Konzerte im Petersdom, Vatikan und an den Osterfeiern in Thun. Eintritt frei, Kollekte.\n\nhttps://eventfrog.at/de/p/konzerte/chor/chorkonzert-vom-petersdom-nach-thun-7453010019069473142.html
LOCATION:Online event
URL:https://eventfrog.at/de/p/konzerte/chor/chorkonzert-vom-petersdom-nach-thun-7453010019069473142.html
END:VEVENT
END:VCALENDAR