BEGIN:VCALENDAR
VERSION:2.0
PRODID:EVENTFROG//EVENT//ICAL
BEGIN:VEVENT
UID:20260424T072731Z-7453008682856503146@eventfrog.at
DTSTAMP:20260424T072731Z
DTSTART:20260628T160000Z
DTEND:20260628T200000Z
SUMMARY:Balboa Delight 2026 Sunday Boat Party
DESCRIPTION:The legendary boat tour, the crowning glory of the Balboa Delight weekend.\n\nhttps://eventfrog.at/de/p/partys/swing/balboa-delight-2026-sunday-boat-party-7453008682856503146.html
LOCATION:Flaneur Schiff
GEO:47.559828;7.588216
URL:https://eventfrog.at/de/p/partys/swing/balboa-delight-2026-sunday-boat-party-7453008682856503146.html
END:VEVENT
END:VCALENDAR