BEGIN:VCALENDAR
VERSION:2.0
PRODID:EVENTFROG//EVENT//ICAL
BEGIN:VEVENT
UID:20260423T180110Z-7453005989505194915@eventfrog.at
DTSTAMP:20260423T180110Z
DTSTART:20260712T160000Z
DTEND:20260712T200000Z
SUMMARY:Heute schon etwas vor? Terrasse, Drinks & Dinner im Thessoni
DESCRIPTION:Heute schon etwas vor?\nEin kühler Drink, ein spontanes Dinner oder einfach Zeit mit Freunden.\nUnsere Terrasse in Regensdorf ist der Ort dafür.\n\nhttps://eventfrog.at/de/p/essen-trinken/heute-schon-etwas-vor-terrasse-drinks-dinner-im-thessoni-7453005989505194915.html
LOCATION:Boutiquehotel Thessoni Classic Zürich-Regensdorf
GEO:47.438751;8.476474
URL:https://eventfrog.at/de/p/essen-trinken/heute-schon-etwas-vor-terrasse-drinks-dinner-im-thessoni-7453005989505194915.html
END:VEVENT
END:VCALENDAR