BEGIN:VCALENDAR
VERSION:2.0
PRODID:EVENTFROG//EVENT//ICAL
BEGIN:VEVENT
UID:20260424T072651Z-7453005053680428800@eventfrog.at
DTSTAMP:20260424T072651Z
DTSTART:20260523T190000Z
DTEND:20260524T011500Z
SUMMARY:Lalalar + 3YOONI
DESCRIPTION:3YOONI et Lalalar mêlent rythmes arabes, électro et poésie soufie pour un concert engagé mêlé de traditions et modernité.\n\nhttps://eventfrog.at/fr/p/concerts/autres-genres-musicaux/lalalar-3yooni-7453005053680428800.html
LOCATION:Usine à Gaz
GEO:46.379900;6.241010
URL:https://eventfrog.at/fr/p/concerts/autres-genres-musicaux/lalalar-3yooni-7453005053680428800.html
END:VEVENT
END:VCALENDAR