BEGIN:VCALENDAR
VERSION:2.0
PRODID:EVENTFROG//EVENT//ICAL
BEGIN:VEVENT
UID:20260424T072708Z-7452993349835873849@eventfrog.at
DTSTAMP:20260424T072708Z
DTSTART:20260510T170000Z
DTEND:20260510T181500Z
SUMMARY:SUMAY Música Boliviana
DESCRIPTION:Bolivianische Musiker spielen auf traditionellen Instrumenten, singen südamerikanische Lieder und tanzen zu den Rhythmen. \n\nhttps://eventfrog.at/de/p/konzerte/world-ethno/sumay-musica-boliviana-7452993349835873849.html
LOCATION:Kath. Kirche St. Stephan
GEO:47.497166;7.553456
URL:https://eventfrog.at/de/p/konzerte/world-ethno/sumay-musica-boliviana-7452993349835873849.html
END:VEVENT
END:VCALENDAR