BEGIN:VCALENDAR
VERSION:2.0
PRODID:EVENTFROG//EVENT//ICAL
BEGIN:VEVENT
UID:20260424T092517Z-7452990557301798365@eventfrog.at
DTSTAMP:20260424T092517Z
DTSTART:20260523T070000Z
DTEND:20260523T210000Z
SUMMARY:Lausanne: The Game
DESCRIPTION:Lausanne: The Game brings teams of friends to spend a day discovering the city in a unique way!\n\nhttps://eventfrog.at/en/p/leisure-excursions/groups-games/lausanne-the-game-7452990557301798365.html
LOCATION:Lausanne: The Game
GEO:46.519653;6.632273
URL:https://eventfrog.at/en/p/leisure-excursions/groups-games/lausanne-the-game-7452990557301798365.html
END:VEVENT
END:VCALENDAR