BEGIN:VCALENDAR
VERSION:2.0
PRODID:EVENTFROG//EVENT//ICAL
BEGIN:VEVENT
UID:20260424T072727Z-7452990000591812422@eventfrog.at
DTSTAMP:20260424T072727Z
DTSTART:20260517T060000Z
SUMMARY:Montreux Hike  - 17/05/2026
DESCRIPTION:.\n\nhttps://eventfrog.at/fr/p/loisirs-excursions/excursion/montreux-hike-17-05-2026-7452990000591812422.html
LOCATION:Pret A Manger
GEO:46.210449;6.142924
URL:https://eventfrog.at/fr/p/loisirs-excursions/excursion/montreux-hike-17-05-2026-7452990000591812422.html
END:VEVENT
END:VCALENDAR