BEGIN:VCALENDAR
VERSION:2.0
PRODID:EVENTFROG//EVENT//ICAL
BEGIN:VEVENT
UID:20260424T072725Z-7452988086001118784@eventfrog.at
DTSTAMP:20260424T072725Z
DTSTART:20260902T163000Z
DTEND:20260902T180000Z
SUMMARY:Quelle information de qualité face au tsunami médiatique ?
DESCRIPTION:Durant Halloween et la fête des morts, têtes de mort, zombies, vampires et fantômes envahissent notre quotidien. Parmi ces « non-morts », les vampires ont toujours fasciné : autrefois craints ls’avère\n\nhttps://eventfrog.at/fr/p/visites-conferences/conference/quelle-information-de-qualite-face-au-tsunami-mediatique-7452988086001118784.html
LOCATION:INGE - Institut National Genevois
GEO:46.200244;6.141795
URL:https://eventfrog.at/fr/p/visites-conferences/conference/quelle-information-de-qualite-face-au-tsunami-mediatique-7452988086001118784.html
END:VEVENT
END:VCALENDAR