BEGIN:VCALENDAR
VERSION:2.0
PRODID:EVENTFROG//EVENT//ICAL
BEGIN:VEVENT
UID:20260425T201111Z-7452982730080417395@eventfrog.at
DTSTAMP:20260425T201111Z
DTSTART:20261108T100000Z
DTEND:20261108T160000Z
SUMMARY:Traum in Tüten Trödel 9.0
DESCRIPTION:Der Trödel ist eine Eventreihe von Traum in Tüten für die Community. Die Boutique wird an diesem Tag komplett umgeräumt und die Neuware wird durch die je 5 Lieblingsteile der Kundinnen ersetzt. \n\nhttps://eventfrog.at/de/p/maerkte/flohmarkt/traum-in-tueten-troedel-9-0-7452982730080417395.html
LOCATION:Traum in Tüten
GEO:51.436800;7.007722
URL:https://eventfrog.at/de/p/maerkte/flohmarkt/traum-in-tueten-troedel-9-0-7452982730080417395.html
END:VEVENT
END:VCALENDAR