BEGIN:VCALENDAR
VERSION:2.0
PRODID:EVENTFROG//EVENT//ICAL
BEGIN:VEVENT
UID:20260423T155314Z-7452980994791990426@eventfrog.at
DTSTAMP:20260423T155314Z
DTSTART:20260826T151500Z
DTEND:20260826T161500Z
SUMMARY:Guzzella über Ökonomische Notwendigkeit von Energie
DESCRIPTION:Prof. em. Dr. Lino Guzzella erläutert die globalen Energie-Herausforderungen und bewertet die Energiestrategie 2050 aus technischer Sicht.\n\nhttps://eventfrog.at/de/p/wissenschaft-und-technik/guzzella-ueber-oekonomische-notwendigkeit-von-energie-7452980994791990426.html
LOCATION:Universität Luzern
GEO:47.049393;8.312515
URL:https://eventfrog.at/de/p/wissenschaft-und-technik/guzzella-ueber-oekonomische-notwendigkeit-von-energie-7452980994791990426.html
END:VEVENT
END:VCALENDAR