BEGIN:VCALENDAR
VERSION:2.0
PRODID:EVENTFROG//EVENT//ICAL
BEGIN:VEVENT
UID:20260424T072506Z-7452980954199511784@eventfrog.at
DTSTAMP:20260424T072506Z
DTSTART:20270320T073000Z
DTEND:20270320T100000Z
SUMMARY:Kinderartikelbörse von Wir junge Eltern Horw
DESCRIPTION:Kinderartikelbörse in Horw am 20. März 2026: Entdecke tolle Lieblingsstücke aus zweiter Hand – Kleidung, Spielsachen, Bücher, Umstandsmode, Kinderwagen und vieles mehr für Kinder und Jugendliche!\n\nhttps://eventfrog.at/de/p/maerkte/second-hand/kinderartikelboerse-von-wir-junge-eltern-horw-7452980954199511784.html
LOCATION:Horwerhalle, Horw
GEO:47.020214;8.307908
URL:https://eventfrog.at/de/p/maerkte/second-hand/kinderartikelboerse-von-wir-junge-eltern-horw-7452980954199511784.html
END:VEVENT
END:VCALENDAR