BEGIN:VCALENDAR
VERSION:2.0
PRODID:EVENTFROG//EVENT//ICAL
BEGIN:VEVENT
UID:20260424T072730Z-7452977453163651793@eventfrog.at
DTSTAMP:20260424T072730Z
DTSTART:20260523T210000Z
DTEND:20260524T040000Z
SUMMARY:Chris Avantgarde
DESCRIPTION:Chris Avantgarde\nRetyp\nSebastian Konrad\n\nhttps://eventfrog.at/de/p/partys/house-techno/chris-avantgarde-7452977453163651793.html
LOCATION:Nordstern
GEO:47.583700;7.586770
URL:https://eventfrog.at/de/p/partys/house-techno/chris-avantgarde-7452977453163651793.html
END:VEVENT
END:VCALENDAR