BEGIN:VCALENDAR
VERSION:2.0
PRODID:EVENTFROG//EVENT//ICAL
BEGIN:VEVENT
UID:20260424T122302Z-7452974433306725035@eventfrog.at
DTSTAMP:20260424T122302Z
DTSTART:20261124T230000Z
SUMMARY:Thementag „Digital Twins“
DESCRIPTION:Thementag „Digital Twins“ - Ein öffentlicher Thementag der Klasse für Ingenieur- und Wirtschaftswissenschaften\n\nhttps://eventfrog.at/de/p/fuehrungen-vortraege/tagungen-kolloquien/thementag-digital-twins-7452974433306725035.html
LOCATION:Nordrhein-Westfälische Akademie der Wissenschaften und der Künste
GEO:51.209491;6.771480
URL:https://eventfrog.at/de/p/fuehrungen-vortraege/tagungen-kolloquien/thementag-digital-twins-7452974433306725035.html
END:VEVENT
END:VCALENDAR