BEGIN:VCALENDAR
VERSION:2.0
PRODID:EVENTFROG//EVENT//ICAL
BEGIN:VEVENT
UID:20260424T105344Z-7452970231826260536@eventfrog.at
DTSTAMP:20260424T105344Z
DTSTART:20261014T150000Z
SUMMARY:Leo-Brandt-Veranstaltung
DESCRIPTION:Leo-Brandt-Veranstaltung 2026\n\nhttps://eventfrog.at/de/p/fuehrungen-vortraege/vortrag/leo-brandt-veranstaltung-7452970231826260536.html
LOCATION:Nordrhein-Westfälische Akademie der Wissenschaften und der Künste
GEO:51.209491;6.771480
URL:https://eventfrog.at/de/p/fuehrungen-vortraege/vortrag/leo-brandt-veranstaltung-7452970231826260536.html
END:VEVENT
END:VCALENDAR