BEGIN:VCALENDAR
VERSION:2.0
PRODID:EVENTFROG//EVENT//ICAL
BEGIN:VEVENT
UID:20260424T123331Z-7452969122399258350@eventfrog.at
DTSTAMP:20260424T123331Z
DTSTART:20260508T080000Z
DTEND:20260731T180000Z
SUMMARY:WHO CARES? Eine Ausstellung über und mit Fürsorge
DESCRIPTION:Im Schopenhauer-Studio zeigt die Ausstellung studentische Arbeiten und Objekte aus universitären Sammlungen der Goethe-Universität  zur Fürsorge .\n\nhttps://eventfrog.at/de/p/kunst-ausstellungen/ausstellung/who-cares-eine-ausstellung-ueber-und-mit-fuersorge-7452969122399258350.html
LOCATION:Universitätsbibliothek Johann Christian Senckenberg
GEO:50.115708;8.659147
URL:https://eventfrog.at/de/p/kunst-ausstellungen/ausstellung/who-cares-eine-ausstellung-ueber-und-mit-fuersorge-7452969122399258350.html
END:VEVENT
END:VCALENDAR